BEGIN:VCALENDAR
VERSION:2.0
PRODID:-//hacksw/handcal//NONSGML v1.0//EN
BEGIN:VEVENT
SUMMARY:Challenge de la baie des Veys
UID:291c0ab9-407f-41b8-9fdd-f8249aead335
DTSTART:20260514T220000Z
DTEND:20260516T220000Z
LOCATION:Localisation   
CATEGORIES:Sportif
STATUS:
DESCRIPTION:<p>Regatiers en progres, bagarreurs de priorite, skippers
 qui veulent essayer, calculateurs de rating sur pattes.... ils seront
 tous sur l'eau pour soigner leurs virements. Le challenge de la baie
 des Veys, co-organise par le Club des plaisanciers de Grandcamp-Maisy
 et par le Yacht-club de Saint-Vaast-La-Hougue se court cette annee a
 Saint-Vaast vendredi 15 et samedi 16 mai. Et comme toujours, le
 challenge de la baie des Veys est la course la mieux dotee de la
 region : chaque vainqueur des deux groupes gagne une demi-voile
 offerte par la <a
 href="https://www.facebook.com/VoilerieCherbourgeoise/"
 target="_blank" rel="noreferrer noopener">Voilerie
 cherbourgeoise</a>. Merci
 !</p>
 
 <p> </p>
 
 <p><strong>Programme</strong></p>
 
 <p><u>Confirmation
 des inscriptions</u> : 14 mai de 9h a 18h et 15 mai de 9h a
 10h30</p>
 
 <p><u>Course</u> :<br>
 - vendredi 15 mai, 1er signal
 d'avertissement a 12h (fermeture des portes a 12h22, ouverture a
 19h24).<br>
 - samedi 16 mai, 1er signal d'avertissement a 9h
 (fermeture des portes a 13h14, ouverture a 20h08). <em>Aucun signal
 d'avertissement apres 11h30</em>.</p>
 
 <p><u>Remise des prix</u> :
 samedi 16 mai a 18h</p>
 
 <p><u>Repas</u> : samedi 16 mai a 20h (sous
 tente a proximite du
 yacht-club)</p>
 
 <p> </p>
 
 <p><strong>Inscription</strong><br>
 <u>par
 mail avant le 10 mai</u> : yachtclub.saintvaast@gmail.com<br>
 Droits
 d'inscription : 35€/personne, repas compris<br>
 Repas pour non
 regatier : 25€<br>
 Gratuite du port du 14 au 17
 mai</p>
 
 <p> </p>
 
 <p><em><strong>Retrouvez l'avis de course et les
 IC</strong> en pieces jointes au bas de cet article.</em></p>
URL;VALUE=URI:https://www.voile-grandcamp.fr/evenements/2026/05/15/challenge-de-la-baie-des-veys-2403795
END:VEVENT
END:VCALENDAR
